BEGIN:VCALENDAR
VERSION:2.0
PRODID:-//hacksw/handcal//NONSGML v1.0//EN
CALSCALE:GREGORIAN
BEGIN:VEVENT
LOCATION:
DESCRIPTION:
DTSTART:20230525T173000Z
DTEND:20230525T173000Z
SUMMARY:Eleccions Municipals 2023. Debat a L'Escala
URL;VALUE=URI:https://arquitectes.cat/ca/content/eleccions-municipals-2023-debat-lescala
DTSTAMP:20260422T124623Z
UID:69e8a6ffdd547
END:VEVENT
END:VCALENDAR