BEGIN:VCALENDAR
VERSION:2.0
PRODID:-//hacksw/handcal//NONSGML v1.0//EN
CALSCALE:GREGORIAN
BEGIN:VEVENT
LOCATION:Barcelona
DESCRIPTION:
DTSTART:20230531T173000Z
DTEND:20230531T173000Z
SUMMARY:ELISAVA Masters’ Talks: Design for the Times
URL;VALUE=URI:https://arquitectes.cat/ca/content/elisava-masters%E2%80%99-talks-design-times
DTSTAMP:20260425T235646Z
UID:69ed389e11e04
END:VEVENT
END:VCALENDAR