BEGIN:VCALENDAR
VERSION:2.0
PRODID:-//hacksw/handcal//NONSGML v1.0//EN
CALSCALE:GREGORIAN
BEGIN:VEVENT
LOCATION:Sabadell
DESCRIPTION:
DTSTART:20230517T163000Z
DTEND:20230517T163000Z
SUMMARY:ELECCIONS MUNICIPALS 2023: DEBAT AMB LES CANDIDATURES DE SABADELL 
URL;VALUE=URI:https://arquitectes.cat/ca/content/eleccions-municipals-2023-debat-amb-les-candidatures-de-sabadell
DTSTAMP:20260425T215424Z
UID:69ed1bf077bbf
END:VEVENT
END:VCALENDAR