BEGIN:VCALENDAR
VERSION:2.0
PRODID:-//hacksw/handcal//NONSGML v1.0//EN
CALSCALE:GREGORIAN
BEGIN:VEVENT
LOCATION:Barcelona
DESCRIPTION:
DTSTART:20230601T170000Z
DTEND:20230601T170000Z
SUMMARY:Tertúlia d'arquitectura: "Urbanisme extrem. Neom al desert". Lara Pellegrini i Xavier Aguiló.
URL;VALUE=URI:https://arquitectes.cat/ca/content/tert%C3%BAlia-darquitectura-urbanisme-extrem-neom-al-desert-lara-pellegrini-i-xavier-aguil%C3%B3
DTSTAMP:20260425T201215Z
UID:69ed03ff4f29b
END:VEVENT
END:VCALENDAR