BEGIN:VCALENDAR
VERSION:2.0
PRODID:-//hacksw/handcal//NONSGML v1.0//EN
CALSCALE:GREGORIAN
BEGIN:VEVENT
LOCATION:Barcelona
DESCRIPTION:
DTSTART:20230509T170000Z
DTEND:20230509T170000Z
SUMMARY:Presentació: "El Llibre de les fonts"
URL;VALUE=URI:https://arquitectes.cat/ca/content/presentaci%C3%B3-el-llibre-de-les-fonts
DTSTAMP:20260425T131835Z
UID:69eca30b62f57
END:VEVENT
END:VCALENDAR