BEGIN:VCALENDAR
VERSION:2.0
PRODID:-//hacksw/handcal//NONSGML v1.0//EN
CALSCALE:GREGORIAN
BEGIN:VEVENT
LOCATION:Amposta
DESCRIPTION:
DTSTART:20230425T070000Z
DTEND:20230531T020000Z
SUMMARY:AxA Campus de les Terres de l’Ebre | Obertes inscripcions
URL;VALUE=URI:https://arquitectes.cat/ca/content/axa-campus-de-les-terres-de-l%E2%80%99ebre-obertes-inscripcions
DTSTAMP:20260420T034334Z
UID:69e584c6a88f6
END:VEVENT
END:VCALENDAR