BEGIN:VCALENDAR
VERSION:2.0
PRODID:-//hacksw/handcal//NONSGML v1.0//EN
CALSCALE:GREGORIAN
BEGIN:VEVENT
LOCATION:Manresa
DESCRIPTION:
DTSTART:20230504T114500Z
DTEND:20230527T180000Z
SUMMARY:Els jardins de la industrialització al Ter. El dibuix al servei del paisatge. De Manel Vicente
URL;VALUE=URI:https://arquitectes.cat/ca/content/els-jardins-de-la-industrialitzaci%C3%B3-al-ter-el-dibuix-al-servei-del-paisatge-de-manel-vicen-0
DTSTAMP:20260419T235817Z
UID:69e54ff9f0a1f
END:VEVENT
END:VCALENDAR