BEGIN:VCALENDAR
VERSION:2.0
PRODID:-//hacksw/handcal//NONSGML v1.0//EN
CALSCALE:GREGORIAN
BEGIN:VEVENT
LOCATION:Barcelona
DESCRIPTION:
DTSTART:20230424T120000Z
DTEND:20230515T120000Z
SUMMARY:Exposició: "Arriola & Fiol. Urban Civic Projects"
URL;VALUE=URI:https://arquitectes.cat/ca/content/exposici%C3%B3-arriola-fiol-urban-civic-projects
DTSTAMP:20260420T081821Z
UID:69e5c52d3cb08
END:VEVENT
END:VCALENDAR