BEGIN:VCALENDAR
VERSION:2.0
PRODID:-//hacksw/handcal//NONSGML v1.0//EN
CALSCALE:GREGORIAN
BEGIN:VEVENT
LOCATION:Barcelona
DESCRIPTION:
DTSTART:20230506T170000Z
DTEND:20230507T183000Z
SUMMARY:XCÈNTRIC 2023.  Haroun Tazieff\, the poet of fire. Screening and performance as season closing
URL;VALUE=URI:https://arquitectes.cat/ca/node/38750
DTSTAMP:20260419T190601Z
UID:69e50b798e63d
END:VEVENT
END:VCALENDAR