BEGIN:VCALENDAR
VERSION:2.0
PRODID:-//hacksw/handcal//NONSGML v1.0//EN
CALSCALE:GREGORIAN
BEGIN:VEVENT
LOCATION:Barcelona
DESCRIPTION:
DTSTART:20230426T160000Z
DTEND:20230426T160000Z
SUMMARY:Xerrada d'actualitat: Planejament de l'Illa de les Bugaderes
URL;VALUE=URI:https://arquitectes.cat/ca/content/xerrada-dactualitat-planejament-de-lilla-de-les-bugaderes
DTSTAMP:20260425T200915Z
UID:69ed034b3c972
END:VEVENT
END:VCALENDAR