BEGIN:VCALENDAR
VERSION:2.0
PRODID:-//hacksw/handcal//NONSGML v1.0//EN
CALSCALE:GREGORIAN
BEGIN:VEVENT
LOCATION:Barcelona
DESCRIPTION:
DTSTART:20230420T150000Z
DTEND:20230429T123000Z
SUMMARY:Espais Ocults
URL;VALUE=URI:https://arquitectes.cat/ca/node/38684
DTSTAMP:20260419T140313Z
UID:69e4c4811e9d0
END:VEVENT
END:VCALENDAR