BEGIN:VCALENDAR
VERSION:2.0
PRODID:-//hacksw/handcal//NONSGML v1.0//EN
CALSCALE:GREGORIAN
BEGIN:VEVENT
LOCATION:Barcelona
DESCRIPTION:
DTSTART:20230411T164500Z
DTEND:20231231T164500Z
SUMMARY:MUHBA Casa Padellàs: L’exposició estable: "Barcelona flashback. Síntesi històrica"
URL;VALUE=URI:https://arquitectes.cat/ca/content/muhba-casa-padell%C3%A0s-l%E2%80%99exposici%C3%B3-estable-barcelona-flashback-s%C3%ADntesi-hist%C3%B2rica-0
DTSTAMP:20260422T154604Z
UID:69e8d11c9baca
END:VEVENT
END:VCALENDAR