BEGIN:VCALENDAR
VERSION:2.0
PRODID:-//hacksw/handcal//NONSGML v1.0//EN
CALSCALE:GREGORIAN
BEGIN:VEVENT
LOCATION:Barcelona
DESCRIPTION:
DTSTART:20230426T170000Z
DTEND:20230426T170000Z
SUMMARY:Design Crush! #14: MESURA & Carla Cascales
URL;VALUE=URI:https://arquitectes.cat/ca/content/design-crush-14-mesura-carla-cascales
DTSTAMP:20260420T034440Z
UID:69e58508a4675
END:VEVENT
END:VCALENDAR