BEGIN:VCALENDAR
VERSION:2.0
PRODID:-//hacksw/handcal//NONSGML v1.0//EN
CALSCALE:GREGORIAN
BEGIN:VEVENT
LOCATION:Girona
DESCRIPTION:
DTSTART:20230409T100000Z
DTEND:20230409T100000Z
SUMMARY:Visita guiada a l'exposició 'Geometria sensible'
URL;VALUE=URI:https://arquitectes.cat/ca/content/visita-guiada-lexposici%C3%B3-geometria-sensible
DTSTAMP:20260419T164515Z
UID:69e4ea7b77d09
END:VEVENT
END:VCALENDAR