BEGIN:VCALENDAR
VERSION:2.0
PRODID:-//hacksw/handcal//NONSGML v1.0//EN
CALSCALE:GREGORIAN
BEGIN:VEVENT
LOCATION:Barcelona
DESCRIPTION:
DTSTART:20230415T100000Z
DTEND:20230415T100000Z
SUMMARY:Visita guiada a l'exposició de Carlos Pazos\, per Eloy Fernández Porta
URL;VALUE=URI:https://arquitectes.cat/ca/content/visita-guiada-lexposici%C3%B3-de-carlos-pazos-eloy-fern%C3%A1ndez-porta
DTSTAMP:20260423T074317Z
UID:69e9b175a68a8
END:VEVENT
END:VCALENDAR