BEGIN:VCALENDAR
VERSION:2.0
PRODID:-//hacksw/handcal//NONSGML v1.0//EN
CALSCALE:GREGORIAN
BEGIN:VEVENT
LOCATION:Barcelona
DESCRIPTION:
DTSTART:20230331T180000Z
DTEND:20230331T180000Z
SUMMARY:Estrena «Sinfonías de ciudad» 2023
URL;VALUE=URI:https://arquitectes.cat/ca/node/38603
DTSTAMP:20260422T124013Z
UID:69e8a58de91a8
END:VEVENT
END:VCALENDAR