BEGIN:VCALENDAR
VERSION:2.0
PRODID:-//hacksw/handcal//NONSGML v1.0//EN
CALSCALE:GREGORIAN
BEGIN:VEVENT
LOCATION:Tarragona
DESCRIPTION:
DTSTART:20230420T173000Z
DTEND:20230420T173000Z
SUMMARY:Harquitectes\, la naturalesa dels edificis
URL;VALUE=URI:https://arquitectes.cat/ca/content/harquitectes-la-naturalesa-dels-edificis
DTSTAMP:20260419T181517Z
UID:69e4ff95bb42a
END:VEVENT
END:VCALENDAR