BEGIN:VCALENDAR
VERSION:2.0
PRODID:-//hacksw/handcal//NONSGML v1.0//EN
CALSCALE:GREGORIAN
BEGIN:VEVENT
LOCATION:Olot
DESCRIPTION:
DTSTART:20230412T170000Z
DTEND:20230412T170000Z
SUMMARY:Presentación del libro 'Movilidad Activa en La Garrotxa'
URL;VALUE=URI:https://arquitectes.cat/ca/node/38585
DTSTAMP:20260419T184324Z
UID:69e5062c3f3d0
END:VEVENT
END:VCALENDAR