BEGIN:VCALENDAR
VERSION:2.0
PRODID:-//hacksw/handcal//NONSGML v1.0//EN
CALSCALE:GREGORIAN
BEGIN:VEVENT
LOCATION:Barcelona
DESCRIPTION:
DTSTART:20230330T170000Z
DTEND:20230330T170000Z
SUMMARY:Presentació de la publicació “The Stadium\, the Pavilion and the Palace” de Domènec al MACBA
URL;VALUE=URI:https://arquitectes.cat/ca/content/presentaci%C3%B3-de-la-publicaci%C3%B3-%E2%80%9C-stadium-pavilion-and-palace%E2%80%9D-de-dom%C3%A8nec-al-macba
DTSTAMP:20260419T143859Z
UID:69e4cce30392d
END:VEVENT
END:VCALENDAR