BEGIN:VCALENDAR
VERSION:2.0
PRODID:-//hacksw/handcal//NONSGML v1.0//EN
CALSCALE:GREGORIAN
BEGIN:VEVENT
LOCATION:Barcelona
DESCRIPTION:
DTSTART:20230322T170000Z
DTEND:20230322T170000Z
SUMMARY:Diàlegs al Park Güell. El Park Güell i l’atracció de la muntanya. Un itinerari literari.
URL;VALUE=URI:https://arquitectes.cat/ca/content/di%C3%A0legs-al-park-g%C3%BCell-el-park-g%C3%BCell-i-l%E2%80%99atracci%C3%B3-de-la-muntanya-un-itinerari-literari
DTSTAMP:20260419T145826Z
UID:69e4d17260c3b
END:VEVENT
END:VCALENDAR