BEGIN:VCALENDAR
VERSION:2.0
PRODID:-//hacksw/handcal//NONSGML v1.0//EN
CALSCALE:GREGORIAN
BEGIN:VEVENT
LOCATION:Barcelona
DESCRIPTION:
DTSTART:20230327T170000Z
DTEND:20230327T170000Z
SUMMARY:De servus a terratinent: esclaus i dependents en la producció amfòrica a l’Ager Barcinonensis
URL;VALUE=URI:https://arquitectes.cat/ca/content/de-servus-terratinent-esclaus-i-dependents-en-la-producci%C3%B3-amf%C3%B2rica-l%E2%80%99ager-barcinonensis
DTSTAMP:20260420T033355Z
UID:69e5828387230
END:VEVENT
END:VCALENDAR