BEGIN:VCALENDAR
VERSION:2.0
PRODID:-//hacksw/handcal//NONSGML v1.0//EN
CALSCALE:GREGORIAN
BEGIN:VEVENT
LOCATION:
DESCRIPTION:
DTSTART:20230429T103000Z
DTEND:20230501T190000Z
SUMMARY:Viatge a Basilea
URL;VALUE=URI:https://arquitectes.cat/ca/content/viatge-basilea
DTSTAMP:20260419T203215Z
UID:69e51fafbd63c
END:VEVENT
END:VCALENDAR