BEGIN:VCALENDAR
VERSION:2.0
PRODID:-//hacksw/handcal//NONSGML v1.0//EN
CALSCALE:GREGORIAN
BEGIN:VEVENT
LOCATION:Barcelona
DESCRIPTION:
DTSTART:20230504T170000Z
DTEND:20230504T170000Z
SUMMARY:"Arquitectura per a les persones. Comunicar\, tot un art". Convidat: Pep Lluís Blàzquez\, director del programa d'arquitectura Perspectiva de Catalunya Ràdio
URL;VALUE=URI:https://arquitectes.cat/ca/content/arquitectura-les-persones-comunicar-tot-un-art-convidat-pep-llu%C3%ADs-bl%C3%A0zquez-director-del
DTSTAMP:20260419T180452Z
UID:69e4fd249de6f
END:VEVENT
END:VCALENDAR