BEGIN:VCALENDAR
VERSION:2.0
PRODID:-//hacksw/handcal//NONSGML v1.0//EN
CALSCALE:GREGORIAN
BEGIN:VEVENT
LOCATION:Barcelona
DESCRIPTION:
DTSTART:20230322T100000Z
DTEND:20230322T100000Z
SUMMARY:Visita guiada a l'exposició "Línies Dures" amb el seu comissari\, Valentín Roma
URL;VALUE=URI:https://arquitectes.cat/ca/content/visita-guiada-lexposici%C3%B3-l%C3%ADnies-dures-amb-el-seu-comissari-valent%C3%ADn-roma
DTSTAMP:20260425T234532Z
UID:69ed35fc879af
END:VEVENT
END:VCALENDAR