BEGIN:VCALENDAR
VERSION:2.0
PRODID:-//hacksw/handcal//NONSGML v1.0//EN
CALSCALE:GREGORIAN
BEGIN:VEVENT
LOCATION:Barcelona
DESCRIPTION:
DTSTART:20230427T170000Z
DTEND:20230427T170000Z
SUMMARY:Correa & Milá\, en perspectiva. Veus 2 / Galeria Santa&Cole
URL;VALUE=URI:https://arquitectes.cat/ca/content/correa-mil%C3%A1-en-perspectiva-veus-2-galeria-santacole
DTSTAMP:20260419T181608Z
UID:69e4ffc8025cd
END:VEVENT
END:VCALENDAR