BEGIN:VCALENDAR
VERSION:2.0
PRODID:-//hacksw/handcal//NONSGML v1.0//EN
CALSCALE:GREGORIAN
BEGIN:VEVENT
LOCATION:Barcelona
DESCRIPTION:
DTSTART:20230316T110000Z
DTEND:20230316T110000Z
SUMMARY:Debats al Pavelló: Foundations of Urban Design\, Marcel Smets
URL;VALUE=URI:https://arquitectes.cat/ca/content/debats-al-pavell%C3%B3-foundations-urban-design-marcel-smets
DTSTAMP:20260423T074540Z
UID:69e9b2048b320
END:VEVENT
END:VCALENDAR