BEGIN:VCALENDAR
VERSION:2.0
PRODID:-//hacksw/handcal//NONSGML v1.0//EN
CALSCALE:GREGORIAN
BEGIN:VEVENT
LOCATION:Barcelona
DESCRIPTION:
DTSTART:20230330T070000Z
DTEND:20230331T160000Z
SUMMARY:Foros / BIODIG 2023: Fifth International Conference for Biodigital Architecture and Genetics
URL;VALUE=URI:https://arquitectes.cat/ca/node/38509
DTSTAMP:20260425T143033Z
UID:69ecb3e986fde
END:VEVENT
END:VCALENDAR