BEGIN:VCALENDAR
VERSION:2.0
PRODID:-//hacksw/handcal//NONSGML v1.0//EN
CALSCALE:GREGORIAN
BEGIN:VEVENT
LOCATION:Girona
DESCRIPTION:
DTSTART:20230321T080000Z
DTEND:20230321T080000Z
SUMMARY:Conferència ‘Ciutats i canvi climàtic. Una proposta des del disseny adaptatiu’.
URL;VALUE=URI:https://arquitectes.cat/ca/content/confer%C3%A8ncia-%E2%80%98ciutats-i-canvi-clim%C3%A0tic-una-proposta-des-del-disseny-adaptatiu%E2%80%99
DTSTAMP:20260419T230722Z
UID:69e5440a95f6f
END:VEVENT
END:VCALENDAR