BEGIN:VCALENDAR
VERSION:2.0
PRODID:-//hacksw/handcal//NONSGML v1.0//EN
CALSCALE:GREGORIAN
BEGIN:VEVENT
LOCATION:Barcelona
DESCRIPTION:
DTSTART:20230330T173000Z
DTEND:20230330T173000Z
SUMMARY:Presentació del llibre 'La gran revolución doméstica' de Dolores Hayden
URL;VALUE=URI:https://arquitectes.cat/ca/content/presentaci%C3%B3-del-llibre-la-gran-revoluci%C3%B3n-dom%C3%A9stica-de-dolores-hayden
DTSTAMP:20260420T055910Z
UID:69e5a48e1f898
END:VEVENT
END:VCALENDAR