BEGIN:VCALENDAR
VERSION:2.0
PRODID:-//hacksw/handcal//NONSGML v1.0//EN
CALSCALE:GREGORIAN
BEGIN:VEVENT
LOCATION:Barcelona
DESCRIPTION:
DTSTART:20230316T104500Z
DTEND:20230528T104500Z
SUMMARY:Exposició "Correa & Milá\, en perspectiva"
URL;VALUE=URI:https://arquitectes.cat/ca/content/exposici%C3%B3-correa-mil%C3%A1-en-perspectiva
DTSTAMP:20260420T002258Z
UID:69e555c26a76a
END:VEVENT
END:VCALENDAR