BEGIN:VCALENDAR
VERSION:2.0
PRODID:-//hacksw/handcal//NONSGML v1.0//EN
CALSCALE:GREGORIAN
BEGIN:VEVENT
LOCATION:En línia
DESCRIPTION:
DTSTART:20230220T150000Z
DTEND:20230220T150000Z
SUMMARY:Nova Sessió Sert sobre energia fotovoltaica\, aerotèrmia i comunitats energètiques
URL;VALUE=URI:https://arquitectes.cat/ca/content/nova-sessi%C3%B3-sert-sobre-energia-fotovoltaica-aerot%C3%A8rmia-i-comunitats-energ%C3%A8tiques
DTSTAMP:20260419T224318Z
UID:69e53e6664ca5
END:VEVENT
END:VCALENDAR