BEGIN:VCALENDAR
VERSION:2.0
PRODID:-//hacksw/handcal//NONSGML v1.0//EN
CALSCALE:GREGORIAN
BEGIN:VEVENT
LOCATION:Barcelona
DESCRIPTION:
DTSTART:20230227T170000Z
DTEND:20230227T170000Z
SUMMARY:Diàleg d'Història Urbana i Patrimoni: "El carnaval a mitjans del segle XIX com una expressió de la cultura liberal progressista"\, a càrrec de  Jordi Roca Vernet
URL;VALUE=URI:https://arquitectes.cat/ca/content/di%C3%A0leg-dhist%C3%B2ria-urbana-i-patrimoni-el-carnaval-mitjans-del-segle-xix-com-una-expressi%C3%B3-de
DTSTAMP:20260420T074030Z
UID:69e5bc4ec96f0
END:VEVENT
END:VCALENDAR