BEGIN:VCALENDAR
VERSION:2.0
PRODID:-//hacksw/handcal//NONSGML v1.0//EN
CALSCALE:GREGORIAN
BEGIN:VEVENT
LOCATION:Barcelona
DESCRIPTION:
DTSTART:20230301T170000Z
DTEND:20230301T170000Z
SUMMARY:Presentació 'Atles MUHBA d’Història de Barcelona'
URL;VALUE=URI:https://arquitectes.cat/ca/content/presentaci%C3%B3-atles-muhba-d%E2%80%99hist%C3%B2ria-de-barcelona
DTSTAMP:20260420T031420Z
UID:69e57dec80510
END:VEVENT
END:VCALENDAR