BEGIN:VCALENDAR
VERSION:2.0
PRODID:-//hacksw/handcal//NONSGML v1.0//EN
CALSCALE:GREGORIAN
BEGIN:VEVENT
LOCATION:Barcelona
DESCRIPTION:
DTSTART:20230223T173000Z
DTEND:20230223T173000Z
SUMMARY:IAAC Lecture Series: Xavier De Kestelier
URL;VALUE=URI:https://arquitectes.cat/ca/content/iaac-lecture-series-xavier-de-kestelier
DTSTAMP:20260425T162308Z
UID:69ecce4c06fcd
END:VEVENT
END:VCALENDAR