BEGIN:VCALENDAR
VERSION:2.0
PRODID:-//hacksw/handcal//NONSGML v1.0//EN
CALSCALE:GREGORIAN
BEGIN:VEVENT
LOCATION:Barcelona
DESCRIPTION:
DTSTART:20230215T163000Z
DTEND:20230215T163000Z
SUMMARY:Presentació del llibre "La metamorfosis sintètica de la costa"
URL;VALUE=URI:https://arquitectes.cat/ca/content/presentaci%C3%B3-del-llibre-la-metamorfosis-sint%C3%A8tica-de-la-costa
DTSTAMP:20260423T003047Z
UID:69e94c1731c18
END:VEVENT
END:VCALENDAR