BEGIN:VCALENDAR
VERSION:2.0
PRODID:-//hacksw/handcal//NONSGML v1.0//EN
CALSCALE:GREGORIAN
BEGIN:VEVENT
LOCATION:Vic
DESCRIPTION:
DTSTART:20230216T123000Z
DTEND:20230218T100000Z
SUMMARY:El COAC col·labora amb la Fira de l'Energia i la Construcció Sostenible
URL;VALUE=URI:https://arquitectes.cat/ca/content/el-coac-col%C2%B7labora-amb-la-fira-de-lenergia-i-la-construcci%C3%B3-sostenible-0
DTSTAMP:20260425T131120Z
UID:69eca158f0da3
END:VEVENT
END:VCALENDAR