BEGIN:VCALENDAR
VERSION:2.0
PRODID:-//hacksw/handcal//NONSGML v1.0//EN
CALSCALE:GREGORIAN
BEGIN:VEVENT
LOCATION:Barcelona
DESCRIPTION:
DTSTART:20230214T163000Z
DTEND:20230214T163000Z
SUMMARY:Presentació: "Gaudí & Güell. El artista y el mecenas"
URL;VALUE=URI:https://arquitectes.cat/ca/content/presentaci%C3%B3-gaud%C3%AD-g%C3%BCell-el-artista-y-el-mecenas
DTSTAMP:20260423T090738Z
UID:69e9c53a9eea3
END:VEVENT
END:VCALENDAR