BEGIN:VCALENDAR
VERSION:2.0
PRODID:-//hacksw/handcal//NONSGML v1.0//EN
CALSCALE:GREGORIAN
BEGIN:VEVENT
LOCATION:Barcelona
DESCRIPTION:
DTSTART:20230126T110000Z
DTEND:20230126T110000Z
SUMMARY:2023 Activities Programme presentation - Fundació Mies van der Rohe
URL;VALUE=URI:https://arquitectes.cat/ca/node/38255
DTSTAMP:20260419T214752Z
UID:69e53168d0922
END:VEVENT
END:VCALENDAR