BEGIN:VCALENDAR
VERSION:2.0
PRODID:-//hacksw/handcal//NONSGML v1.0//EN
CALSCALE:GREGORIAN
BEGIN:VEVENT
LOCATION:Barcelona
DESCRIPTION:
DTSTART:20230124T150000Z
DTEND:20230124T150000Z
SUMMARY:Vols acabar amb la teva precarització laboral? Vine al COAC el dimarts 24 de gener i sabràs com fer-ho
URL;VALUE=URI:https://arquitectes.cat/ca/content/vols-acabar-amb-la-teva-precaritzaci%C3%B3-laboral-vine-al-coac-el-dimarts-24-de-gener-i-sabr%C3%A0s
DTSTAMP:20260422T062534Z
UID:69e84dbe8dbf1
END:VEVENT
END:VCALENDAR