BEGIN:VCALENDAR
VERSION:2.0
PRODID:-//hacksw/handcal//NONSGML v1.0//EN
CALSCALE:GREGORIAN
BEGIN:VEVENT
LOCATION:Barcelona
DESCRIPTION:
DTSTART:20230124T111500Z
DTEND:20230228T111500Z
SUMMARY:Curso sobre sistemas constructivos: sistemas constructivos ligeros
URL;VALUE=URI:https://arquitectes.cat/ca/node/38212
DTSTAMP:20260423T071241Z
UID:69e9aa49aec96
END:VEVENT
END:VCALENDAR