BEGIN:VCALENDAR
VERSION:2.0
PRODID:-//hacksw/handcal//NONSGML v1.0//EN
CALSCALE:GREGORIAN
BEGIN:VEVENT
LOCATION:Barcelona
DESCRIPTION:
DTSTART:20230124T111500Z
DTEND:20230228T111500Z
SUMMARY:Curs sobre sistemes constructius: sistemes constructius lleugers
URL;VALUE=URI:https://arquitectes.cat/ca/content/curs-sobre-sistemes-constructius-sistemes-constructius-lleugers
DTSTAMP:20260419T145531Z
UID:69e4d0c309fee
END:VEVENT
END:VCALENDAR