BEGIN:VCALENDAR
VERSION:2.0
PRODID:-//hacksw/handcal//NONSGML v1.0//EN
CALSCALE:GREGORIAN
BEGIN:VEVENT
LOCATION:Olot
DESCRIPTION:
DTSTART:20230112T070000Z
DTEND:20230429T220000Z
SUMMARY:Exposició 'Domestic Workspaces' a Olot
URL;VALUE=URI:https://arquitectes.cat/ca/content/exposici%C3%B3-domestic-workspaces-olot
DTSTAMP:20260425T201424Z
UID:69ed0480e709d
END:VEVENT
END:VCALENDAR