BEGIN:VCALENDAR
VERSION:2.0
PRODID:-//hacksw/handcal//NONSGML v1.0//EN
CALSCALE:GREGORIAN
BEGIN:VEVENT
LOCATION:Barcelona
DESCRIPTION:
DTSTART:20230309T163000Z
DTEND:20230309T163000Z
SUMMARY:Hedjuk building characters (posposat)
URL;VALUE=URI:https://arquitectes.cat/ca/content/hedjuk-building-characters-posposat
DTSTAMP:20260425T194739Z
UID:69ecfe3bf0267
END:VEVENT
END:VCALENDAR