BEGIN:VCALENDAR
VERSION:2.0
PRODID:-//hacksw/handcal//NONSGML v1.0//EN
CALSCALE:GREGORIAN
BEGIN:VEVENT
LOCATION:Barcelona
DESCRIPTION:
DTSTART:20230116T100000Z
DTEND:20230116T100000Z
SUMMARY:Ciclo Urbanismo\, Derecho y Jurisprudencia: conversación sobre el libro 'EL DERECHO A LA CIUDAD Y EL BUEN GOBIERNO URBANO'
URL;VALUE=URI:https://arquitectes.cat/ca/node/38141
DTSTAMP:20260426T052414Z
UID:69ed855eee4cc
END:VEVENT
END:VCALENDAR