BEGIN:VCALENDAR
VERSION:2.0
PRODID:-//hacksw/handcal//NONSGML v1.0//EN
CALSCALE:GREGORIAN
BEGIN:VEVENT
LOCATION:Barcelona
DESCRIPTION:
DTSTART:20230202T170000Z
DTEND:20230202T170000Z
SUMMARY:"Arquitectures del transport. De Mercabarna L9 a l'Hyperloop". Daria De Seta i Jordi Garcés
URL;VALUE=URI:https://arquitectes.cat/ca/content/arquitectures-del-transport-de-mercabarna-l9-lhyperloop-daria-de-seta-i-jordi-garc%C3%A9s
DTSTAMP:20260422T191002Z
UID:69e900ea11526
END:VEVENT
END:VCALENDAR