BEGIN:VCALENDAR
VERSION:2.0
PRODID:-//hacksw/handcal//NONSGML v1.0//EN
CALSCALE:GREGORIAN
BEGIN:VEVENT
LOCATION:Tarragona
DESCRIPTION:
DTSTART:20221213T070000Z
DTEND:20230113T153000Z
SUMMARY:XII Biennal Alejandro de la Sota\, a Tarragona
URL;VALUE=URI:https://arquitectes.cat/ca/content/xii-biennal-alejandro-de-la-sota-tarragona
DTSTAMP:20260421T053425Z
UID:69e6f0413e59f
END:VEVENT
END:VCALENDAR