BEGIN:VCALENDAR
VERSION:2.0
PRODID:-//hacksw/handcal//NONSGML v1.0//EN
CALSCALE:GREGORIAN
BEGIN:VEVENT
LOCATION:
DESCRIPTION:
DTSTART:20221215T140000Z
DTEND:20221215T140000Z
SUMMARY:L'ITEC presenta l’eina de predimensionat de la rehabilitació energètica a la seu del CATEB
URL;VALUE=URI:https://arquitectes.cat/ca/content/litec-presenta-l%E2%80%99eina-de-predimensionat-de-la-rehabilitaci%C3%B3-energ%C3%A8tica-la-seu-del-cateb
DTSTAMP:20260419T235337Z
UID:69e54ee121424
END:VEVENT
END:VCALENDAR