BEGIN:VCALENDAR
VERSION:2.0
PRODID:-//hacksw/handcal//NONSGML v1.0//EN
CALSCALE:GREGORIAN
BEGIN:VEVENT
LOCATION:Barcelona
DESCRIPTION:
DTSTART:20221202T090000Z
DTEND:20230514T180000Z
SUMMARY:Constel·lació gràfica. Joves autores de còmic d’avantguarda
URL;VALUE=URI:https://arquitectes.cat/ca/content/constel%C2%B7laci%C3%B3-gr%C3%A0fica-joves-autores-de-c%C3%B2mic-d%E2%80%99avantguarda
DTSTAMP:20260419T192107Z
UID:69e50f03c3cce
END:VEVENT
END:VCALENDAR