BEGIN:VCALENDAR
VERSION:2.0
PRODID:-//hacksw/handcal//NONSGML v1.0//EN
CALSCALE:GREGORIAN
BEGIN:VEVENT
LOCATION:
DESCRIPTION:
DTSTART:20221109T094500Z
DTEND:20230122T180000Z
SUMMARY:Exposició "Toquem fusta!" al Museu del Disseny de Barcelona
URL;VALUE=URI:https://arquitectes.cat/ca/content/exposici%C3%B3-toquem-fusta-al-museu-del-disseny-de-barcelona
DTSTAMP:20260425T162318Z
UID:69ecce5640c28
END:VEVENT
END:VCALENDAR