BEGIN:VCALENDAR
VERSION:2.0
PRODID:-//hacksw/handcal//NONSGML v1.0//EN
CALSCALE:GREGORIAN
BEGIN:VEVENT
LOCATION:Tarragona
DESCRIPTION:
DTSTART:20221213T173000Z
DTEND:20221213T190000Z
SUMMARY:Presentation of the book "Gaudí en Madrid. Ciclo de mesas. Madrid\, abril-mayo de 2002 (reedición)"
URL;VALUE=URI:https://arquitectes.cat/ca/node/38108
DTSTAMP:20260422T154129Z
UID:69e8d009ad315
END:VEVENT
END:VCALENDAR